BEGIN:VCALENDAR
VERSION:2.0
PRODID:-//Speech-Language Pathology - ECPv6.15.20//NONSGML v1.0//EN
CALSCALE:GREGORIAN
METHOD:PUBLISH
X-WR-CALNAME:Speech-Language Pathology
X-ORIGINAL-URL:https://slp.utoronto.ca
X-WR-CALDESC:Events for Speech-Language Pathology
REFRESH-INTERVAL;VALUE=DURATION:PT1H
X-Robots-Tag:noindex
X-PUBLISHED-TTL:PT1H
BEGIN:VTIMEZONE
TZID:America/Toronto
BEGIN:DAYLIGHT
TZOFFSETFROM:-0500
TZOFFSETTO:-0400
TZNAME:EDT
DTSTART:20200308T070000
END:DAYLIGHT
BEGIN:STANDARD
TZOFFSETFROM:-0400
TZOFFSETTO:-0500
TZNAME:EST
DTSTART:20201101T060000
END:STANDARD
BEGIN:DAYLIGHT
TZOFFSETFROM:-0500
TZOFFSETTO:-0400
TZNAME:EDT
DTSTART:20210314T070000
END:DAYLIGHT
BEGIN:STANDARD
TZOFFSETFROM:-0400
TZOFFSETTO:-0500
TZNAME:EST
DTSTART:20211107T060000
END:STANDARD
BEGIN:DAYLIGHT
TZOFFSETFROM:-0500
TZOFFSETTO:-0400
TZNAME:EDT
DTSTART:20220313T070000
END:DAYLIGHT
BEGIN:STANDARD
TZOFFSETFROM:-0400
TZOFFSETTO:-0500
TZNAME:EST
DTSTART:20221106T060000
END:STANDARD
END:VTIMEZONE
BEGIN:VEVENT
DTSTART;TZID=America/Toronto:20210618T083000
DTEND;TZID=America/Toronto:20210618T150000
DTSTAMP:20260420T065815
CREATED:20210608T172233Z
LAST-MODIFIED:20210608T172320Z
UID:20289-1624005000-1624028400@slp.utoronto.ca
SUMMARY:SLP2500 - Teaching Clinic
DESCRIPTION:Students will attend the JF Walker Lecture then a brief education session in the afternoon.
URL:https://slp.utoronto.ca/imp_date/slp2500-teaching-clinic/
ATTACH;FMTTYPE=image/jpeg:https://slp.utoronto.ca/wp-content/uploads/clined-e1612385852341.jpg
END:VEVENT
BEGIN:VEVENT
DTSTART;TZID=America/Toronto:20210603T130000
DTEND;TZID=America/Toronto:20210603T140000
DTSTAMP:20260420T065815
CREATED:20201130T161702Z
LAST-MODIFIED:20210601T200317Z
UID:19586-1622725200-1622728800@slp.utoronto.ca
SUMMARY:SLP1500Y and/or SLP1507H - Summer Placement Q&A
DESCRIPTION:As individually assigned
URL:https://slp.utoronto.ca/imp_date/slp1500y-pre-placement-planning-lecture-2/
ATTACH;FMTTYPE=image/jpeg:https://slp.utoronto.ca/wp-content/uploads/clined-e1612385852341.jpg
END:VEVENT
BEGIN:VEVENT
DTSTART;TZID=America/Toronto:20210528T090000
DTEND;TZID=America/Toronto:20210528T170000
DTSTAMP:20260420T065815
CREATED:20201130T161613Z
LAST-MODIFIED:20210203T205957Z
UID:19584-1622192400-1622221200@slp.utoronto.ca
SUMMARY:SLP 2500Y Teaching Clinic 1
DESCRIPTION:
URL:https://slp.utoronto.ca/imp_date/slp-2500y-teaching-clinic-1/
ATTACH;FMTTYPE=image/jpeg:https://slp.utoronto.ca/wp-content/uploads/clined-e1612385852341.jpg
END:VEVENT
BEGIN:VEVENT
DTSTART;TZID=America/Toronto:20210524T090000
DTEND;TZID=America/Toronto:20210524T170000
DTSTAMP:20260420T065815
CREATED:20200713T131714Z
LAST-MODIFIED:20210518T180739Z
UID:18219-1621846800-1621875600@slp.utoronto.ca
SUMMARY:Victoria Day
DESCRIPTION:ALL  – The University is closed on this Statutory holiday.
URL:https://slp.utoronto.ca/imp_date/victoria-day/
CATEGORIES:UofT Closure
END:VEVENT
BEGIN:VEVENT
DTSTART;TZID=America/Toronto:20210521T090000
DTEND;TZID=America/Toronto:20210521T170000
DTSTAMP:20260420T065815
CREATED:20200713T131714Z
LAST-MODIFIED:20210518T180512Z
UID:18217-1621587600-1621616400@slp.utoronto.ca
SUMMARY:UofT Presidential Day
DESCRIPTION:ALL – The University is closed on Presidential Days.
URL:https://slp.utoronto.ca/imp_date/uoft-presidential-day/
CATEGORIES:UofT Closure
END:VEVENT
BEGIN:VEVENT
DTSTART;TZID=America/Toronto:20210517T171500
DTEND;TZID=America/Toronto:20210517T183000
DTSTAMP:20260420T065815
CREATED:20210310T191137Z
LAST-MODIFIED:20210511T200057Z
UID:20003-1621271700-1621276200@slp.utoronto.ca
SUMMARY:Presenter: Anna Rupert\, MHSc\, MSc\, Reg CASLPO.  Title: Trauma\, Attachment & Communication Development: How Speech-Language Pathology fits into Infant and Early Childhood Mental Health 
DESCRIPTION:MAY SPEECH & HEARING MONTH LECTURE 2021 \nBIO: Anna is a speech-language pathologist and University of Toronto graduate with over 10 years of experience supporting the communication development of children. Currently\, Anna is the Program Manager for the Early Abilities preschool speech and language program at the George Hull Centre for Children & Families in Toronto\, Canada. In addition to her training and work in speech-language pathology\, Anna is a researcher and healthcare consultant. She holds a Masters degree in International Health Policy from the London School of Economics with a focus on making the economic case for the inclusion of rehabilitation services within health systems. She is currently conducting research with the Institute of Childhood Trauma and Attachment at the George Hull Centre in early childhood trauma\, attachment and speech-language pathology \nSUMMARY: It is widely known that early childhood trauma can significantly impact child development and life-long health. Among the various impacts that have been demonstrated\, research shows a strong negative association between trauma and the development of communication. Despite this body of research and the reality that speech-language pathology (SLP) practitioners are frequently working with children they know to have experienced trauma early in life\, many SLP practitioners report a number of training and practice needs in order to confidently and effectively incorporate developmental trauma into their practice. By looking more closely at how communication development relates to trauma and the attachment relationship between a child and their caregiver(s)\, the role of the SLP practitioner and how communication development fits into infant and early childhood mental health becomes much clearer. When we know where we are\, it helps us move forward! \nAlthough this lecture is open to the general public there is a limited number of “virtual seats” for this online event. Please RSVP to slp.rsvp@utoronto.ca receive a link. \nIf you are unable to attend or get bumped from the que we will also be recording this event and will make the link available after May 17th.
URL:https://slp.utoronto.ca/imp_date/save-the-date-may-month-lecture/
LOCATION:Online – Virtual
CATEGORIES:Department Events
ATTACH;FMTTYPE=image/jpeg:https://slp.utoronto.ca/wp-content/uploads/A-Rupert-SLP-event_photo.jpg
END:VEVENT
BEGIN:VEVENT
DTSTART;VALUE=DATE:20210507
DTEND;VALUE=DATE:20210508
DTSTAMP:20260420T065815
CREATED:20200814T132221Z
LAST-MODIFIED:20201119T181806Z
UID:18790-1620345600-1620431999@slp.utoronto.ca
SUMMARY:Unit 3 -SLP 1500Y - Post Placement Paperwork Deadline
DESCRIPTION:  \n 
URL:https://slp.utoronto.ca/imp_date/unit-3-slp-1500y-post-placement-paperwork-deadline/
CATEGORIES:Clinical Education
END:VEVENT
BEGIN:VEVENT
DTSTART;TZID=America/Toronto:20210423T090000
DTEND;TZID=America/Toronto:20210423T170000
DTSTAMP:20260420T065815
CREATED:20201130T161504Z
LAST-MODIFIED:20210203T210809Z
UID:19582-1619168400-1619197200@slp.utoronto.ca
SUMMARY:SLP1500 or SLP1507  Teaching Clinic
DESCRIPTION:As individually assigned
URL:https://slp.utoronto.ca/imp_date/slp1500-or-slp1507-teaching-clinic-3/
ATTACH;FMTTYPE=image/jpeg:https://slp.utoronto.ca/wp-content/uploads/clined-e1612385852341.jpg
END:VEVENT
BEGIN:VEVENT
DTSTART;TZID=America/Toronto:20210409T090000
DTEND;TZID=America/Toronto:20210409T170000
DTSTAMP:20260420T065815
CREATED:20201130T161412Z
LAST-MODIFIED:20210203T210924Z
UID:19580-1617958800-1617987600@slp.utoronto.ca
SUMMARY:SLP1500 or SLP1507  Teaching Clinic
DESCRIPTION:As individually assigned
URL:https://slp.utoronto.ca/imp_date/slp1500-or-slp1507-teaching-clinic-2/
ATTACH;FMTTYPE=image/jpeg:https://slp.utoronto.ca/wp-content/uploads/clined-e1612385852341.jpg
END:VEVENT
BEGIN:VEVENT
DTSTART;TZID=America/Toronto:20210407T130000
DTEND;TZID=America/Toronto:20210407T140000
DTSTAMP:20260420T065815
CREATED:20210201T200424Z
LAST-MODIFIED:20210203T211218Z
UID:19860-1617800400-1617804000@slp.utoronto.ca
SUMMARY:SLP 2500Y Advanced Internship Orientation
DESCRIPTION:
URL:https://slp.utoronto.ca/imp_date/slp-2500-advanced-internship-orientation/
CATEGORIES:Clinical Education
ATTACH;FMTTYPE=image/jpeg:https://slp.utoronto.ca/wp-content/uploads/clined-e1612385852341.jpg
END:VEVENT
BEGIN:VEVENT
DTSTART;TZID=America/Toronto:20210406T171500
DTEND;TZID=America/Toronto:20210406T191500
DTSTAMP:20260420T065815
CREATED:20210201T200315Z
LAST-MODIFIED:20210201T200315Z
UID:19858-1617729300-1617736500@slp.utoronto.ca
SUMMARY:Unit 8 IPE
DESCRIPTION:Advanced Clinical Laboratory in Speech-Language Pathology – Case-Based Palliative Care
URL:https://slp.utoronto.ca/imp_date/unit-8-ipe-3/
END:VEVENT
BEGIN:VEVENT
DTSTART;TZID=America/Toronto:20210402T090000
DTEND;TZID=America/Toronto:20210402T170000
DTSTAMP:20260420T065815
CREATED:20200402T040014Z
LAST-MODIFIED:20201119T194003Z
UID:18216-1617354000-1617382800@slp.utoronto.ca
SUMMARY:Good Friday
DESCRIPTION:ALL
URL:https://slp.utoronto.ca/imp_date/good-friday/
CATEGORIES:UofT Closure
END:VEVENT
BEGIN:VEVENT
DTSTART;TZID=America/Toronto:20210330T090000
DTEND;TZID=America/Toronto:20210330T120000
DTSTAMP:20260420T065815
CREATED:20210201T200134Z
LAST-MODIFIED:20210201T200134Z
UID:19856-1617094800-1617105600@slp.utoronto.ca
SUMMARY:Unit 8 ILE
DESCRIPTION:
URL:https://slp.utoronto.ca/imp_date/unit-8-ile-2/
END:VEVENT
BEGIN:VEVENT
DTSTART;VALUE=DATE:20210329
DTEND;VALUE=DATE:20210330
DTSTAMP:20260420T065815
CREATED:20210201T200049Z
LAST-MODIFIED:20210201T200049Z
UID:19853-1616976000-1617062399@slp.utoronto.ca
SUMMARY:Unit 8 ILE
DESCRIPTION:
URL:https://slp.utoronto.ca/imp_date/unit-8-ile/
END:VEVENT
BEGIN:VEVENT
DTSTART;TZID=America/Toronto:20210326T110000
DTEND;TZID=America/Toronto:20210326T150000
DTSTAMP:20260420T065815
CREATED:20210223T212448Z
LAST-MODIFIED:20210223T214546Z
UID:19960-1616756400-1616770800@slp.utoronto.ca
SUMMARY:Online Workshop - Bilingual Language Development in Canada
DESCRIPTION:Content: \nThe Bilingualism & Multilingualism Development (BAM!TO) Lab is offering an online workshop on Friday\, March 26th (11-3pm EST) that will focus on bilingual language development in Canada.  \nThe speaker lineup features Dr. Johanne Paradis\, Professor at University of Alberta who will be speaking about the bilingual development of Syrian refugee children arriving in Canada; as well as Dr. Stefka Marinova-Todd\, Associate Professor at UBC who will discuss bilingualism and autism; and early career researcher Dr. AJ Orena whose work focuses on caregiver speech in French-English homes. \nPlease register for the event here: www.tinyurl.com/bamworkshop 
URL:https://slp.utoronto.ca/imp_date/online-workshop-bilingual-language-development-in-canada/
END:VEVENT
BEGIN:VEVENT
DTSTART;TZID=America/Toronto:20210326T090000
DTEND;TZID=America/Toronto:20210326T170000
DTSTAMP:20260420T065815
CREATED:20201130T161319Z
LAST-MODIFIED:20210203T211027Z
UID:19578-1616749200-1616778000@slp.utoronto.ca
SUMMARY:SLP1500 or SLP1507 Teaching Clinic
DESCRIPTION:As individually assigned
URL:https://slp.utoronto.ca/imp_date/slp1500-or-slp1507-teaching-clinic/
ATTACH;FMTTYPE=image/jpeg:https://slp.utoronto.ca/wp-content/uploads/clined-e1612385852341.jpg
END:VEVENT
BEGIN:VEVENT
DTSTART;TZID=America/Toronto:20210325T160000
DTEND;TZID=America/Toronto:20210325T183000
DTSTAMP:20260420T065815
CREATED:20201130T161224Z
LAST-MODIFIED:20201130T161224Z
UID:19576-1616688000-1616697000@slp.utoronto.ca
SUMMARY:UNIT 8 - IPE
DESCRIPTION:INTERPROFESSIONAL EDUCATION (IPE) LEARNING ACTIVITIES\nConflict in Interprofessional Life\n4:00-6:30 p.m.
URL:https://slp.utoronto.ca/imp_date/unit-8-ipe-2/
END:VEVENT
BEGIN:VEVENT
DTSTART;TZID=America/Toronto:20210322T153000
DTEND;TZID=America/Toronto:20210322T170000
DTSTAMP:20260420T065815
CREATED:20201130T160536Z
LAST-MODIFIED:20201130T160828Z
UID:19572-1616427000-1616432400@slp.utoronto.ca
SUMMARY:UNIT 3 - IPE
DESCRIPTION:INTERPROFESSIONAL EDUCATION (IPE) LEARNING ACTIVITIES \nVirtual Game – Program Led M\n3:30- TBC \n 
URL:https://slp.utoronto.ca/imp_date/unit-3-ipe/
END:VEVENT
BEGIN:VEVENT
DTSTART;VALUE=DATE:20210312
DTEND;VALUE=DATE:20210313
DTSTAMP:20260420T065815
CREATED:20200807T184914Z
LAST-MODIFIED:20210203T205444Z
UID:18449-1615507200-1615593599@slp.utoronto.ca
SUMMARY:SLP1508Y -  Post-Placement Paperwork Deadline
DESCRIPTION:
URL:https://slp.utoronto.ca/imp_date/slp1508y_debrief_lecture/
CATEGORIES:Clinical Education
END:VEVENT
BEGIN:VEVENT
DTSTART;TZID=America/Toronto:20210311T100000
DTEND;TZID=America/Toronto:20210311T100000
DTSTAMP:20260420T065815
CREATED:20210305T155616Z
LAST-MODIFIED:20210305T155616Z
UID:18961-1615456800-1615456800@slp.utoronto.ca
SUMMARY:SLP 1507H Orientation 1
DESCRIPTION:
URL:https://slp.utoronto.ca/imp_date/1507horientationslp/
CATEGORIES:Clinical Education
ATTACH;FMTTYPE=image/jpeg:https://slp.utoronto.ca/wp-content/uploads/clined-e1612385852341.jpg
ORGANIZER;CN="Jennifer Wadds":MAILTO:jennifer.wadds@utoronto.ca
END:VEVENT
BEGIN:VEVENT
DTSTART;TZID=America/Toronto:20210226T130000
DTEND;TZID=America/Toronto:20210226T160000
DTSTAMP:20260420T065815
CREATED:20201127T213637Z
LAST-MODIFIED:20201215T201106Z
UID:19551-1614344400-1614355200@slp.utoronto.ca
SUMMARY:Unit 2 - Exam - SLP1506
DESCRIPTION:
URL:https://slp.utoronto.ca/imp_date/unit-2-exam-slp1506/
END:VEVENT
BEGIN:VEVENT
DTSTART;TZID=America/Toronto:20210224T130000
DTEND;TZID=America/Toronto:20210224T160000
DTSTAMP:20260420T065815
CREATED:20201127T213807Z
LAST-MODIFIED:20201215T201034Z
UID:19553-1614171600-1614182400@slp.utoronto.ca
SUMMARY:Unit 2 - Exam - SLP1529
DESCRIPTION:
URL:https://slp.utoronto.ca/imp_date/unit-2-exam-slp1529/
END:VEVENT
BEGIN:VEVENT
DTSTART;TZID=America/Toronto:20210224T121000
DTEND;TZID=America/Toronto:20210224T130000
DTSTAMP:20260420T065815
CREATED:20210217T155411Z
LAST-MODIFIED:20210219T212603Z
UID:19927-1614168600-1614171600@slp.utoronto.ca
SUMMARY:Leadership Rehab Rounds Beyond Clinical Outcomes in Brachial Plexus Birth Injury: Measuring and Understanding the Youth and Family’s Journey
DESCRIPTION:Emily S. Ho\, PhD\, MEd\, OT Reg. (Ont) \nOccupational Therapist and Assistant Professor\, Department of Occupational Therapy and Occupational Science; \nResearch Director\, Division of Plastic and Reconstructive Surgery\, Hospital for Sick Children \nSpeaker’s Short Bio \nEmily S. Ho\, PhD\, MEd\, OT Reg. (Ont) is an Occupational Therapist and Assistant Professor in the Department of Occupational Therapy and Occupational Science and Research Director in the Division of Plastic and Reconstructive Surgery at the Hospital for Sick Children. Her scholarship focuses on measuring clinical outcomes and understanding participation of young people with congenital musculoskeletal conditions. She strives to place the voice of the youth at the centre of her research\, partnering with them through research initiatives that focus on physical and mental wellbeing to empower independent living. \nStream live at: \nhttps://ca.bbcollab.com/guest/dc5bfbd8ff0f46ae93a88054e3cb27ca\nDial in: 416-978-3435\, PIN: 838 072 6642
URL:https://slp.utoronto.ca/imp_date/leadership-rehab-rounds-wednesday-february-24-2021-dr-emily-s-ho-beyond-clinical-outcomes-in-brachial-plexus-birth-injury-measuring-and-understanding-the-youth-and-familys-journey/
CATEGORIES:Rehabilitation Sciences Sector
ATTACH;FMTTYPE=image/png:https://slp.utoronto.ca/wp-content/uploads/Emily-S.-Ho-e1613577822986.png
END:VEVENT
BEGIN:VEVENT
DTSTART;TZID=America/Toronto:20210215T090000
DTEND;TZID=America/Toronto:20210215T170000
DTSTAMP:20260420T065815
CREATED:20200713T131714Z
LAST-MODIFIED:20200713T131714Z
UID:18218-1613379600-1613408400@slp.utoronto.ca
SUMMARY:Family Day
DESCRIPTION:ALL
URL:https://slp.utoronto.ca/imp_date/family-day/
CATEGORIES:UofT Closure
END:VEVENT
BEGIN:VEVENT
DTSTART;TZID=America/Toronto:20210212T090000
DTEND;TZID=America/Toronto:20210212T170000
DTSTAMP:20260420T065815
CREATED:20201130T160222Z
LAST-MODIFIED:20210203T211242Z
UID:19570-1613120400-1613149200@slp.utoronto.ca
SUMMARY:SLP1508Y Teaching Clinic 3 and SLP2500Y Pre-Placement Planning Lecture
DESCRIPTION:
URL:https://slp.utoronto.ca/imp_date/slp1508-teaching-clinic-3-and-slp2500-pre-placement-planning-lecture/
CATEGORIES:Clinical Education
ATTACH;FMTTYPE=image/jpeg:https://slp.utoronto.ca/wp-content/uploads/clined-e1612385852341.jpg
END:VEVENT
BEGIN:VEVENT
DTSTART;TZID=America/Toronto:20210210T120000
DTEND;TZID=America/Toronto:20210210T130000
DTSTAMP:20260420T065815
CREATED:20210201T193702Z
LAST-MODIFIED:20210201T194225Z
UID:19843-1612958400-1612962000@slp.utoronto.ca
SUMMARY:Home-based dance exercise program for people with Parkinson’s Disease.
DESCRIPTION:Speaker: \nDr. Manoela de Paula Ferreira \nPostdoctoral Fellow\, University of Toronto. \nSpeaker’s Short Bio: \nManoela has a bachelor’s in dance and has Physiotherapy degree in Brazil. She also holds a master’s degree and Ph.D. in Physical Education for the Federal University of Paraná (UFPR) – Brazil where she studied the effects of aquatic exercise and home-based dance exercise program in people with Parkinson’s Disease. Since 2012 Manoela has worked as a Physiotherapist in ICU and home-care. Starting 2019\, Manoela has been involved with research focused on sarcopenia and frailty in Solid Organ Transplant (SOT) candidates and recipients with Dr. Mathur at the University of Toronto. In September 2020 Manoela started her postdoc at the University of Toronto with Dr. Mathur as her supervisor to continue investigating measures of sarcopenia\, frailty in SOT. Moreover\, Manoela is interested in making home-base exercise program accessible and feasible for people with functional mobility restrictions. \nStream Live at: \nhttps://ca.bbcollab.com/guest/dc5bfbd8ff0f46ae93a88054e3cb27ca\nDial in: 416-978-3435\, PIN: 838 072 6642
URL:https://slp.utoronto.ca/imp_date/leadershiproundsfeb10/
CATEGORIES:Rehabilitation Sciences Sector
ATTACH;FMTTYPE=image/jpeg:https://slp.utoronto.ca/wp-content/uploads/Manoela-de-Paula-Ferreira-photo-Feb-10-2021--scaled.jpg
END:VEVENT
BEGIN:VEVENT
DTSTART;TZID=America/Toronto:20210203T130000
DTEND;TZID=America/Toronto:20210203T150000
DTSTAMP:20260420T065815
CREATED:20200814T131234Z
LAST-MODIFIED:20210105T194238Z
UID:18785-1612357200-1612364400@slp.utoronto.ca
SUMMARY:SLP 1500Y Pre-Placement Planning Lecture
DESCRIPTION:
URL:https://slp.utoronto.ca/imp_date/slp-1500y-preplanning-lecture/
CATEGORIES:Clinical Education
END:VEVENT
BEGIN:VEVENT
DTSTART;TZID=America/Toronto:20210127T120000
DTEND;TZID=America/Toronto:20210127T130000
DTSTAMP:20260420T065815
CREATED:20210120T185441Z
LAST-MODIFIED:20210120T190749Z
UID:19790-1611748800-1611752400@slp.utoronto.ca
SUMMARY:Anatomical and structural properties of the human trapezius muscle: preliminary insights into myofascial pain
DESCRIPTION:Speaker: \nMikaela Stiver\, PhD Candidate\, Rehabilitation Sciences Institute\, University of Toronto \nShort Bio: \nMikaela is a final-year PhD Candidate in the Rehabilitation Sciences Institute under the supervision of Dr. Anne Agur and co-supervision of Dr. Dinesh Kumbhare. She obtained her BSc in Human Kinetics and MSc in Neuroscience from the University of Guelph in 2014 and 2016\, respectively. Mikaela is a CIHR Vanier Scholar and her research is also currently supported by a Carlton and Marguerite Smith Medical Research Fellowship. Her doctoral thesis focuses on mapping the baseline 3D architecture and structural properties of the human trapezius muscle\, as well as exploring how the underlying anatomy can help inform our understanding of chronic pain disorders\, such as myofascial pain syndrome. \nStream live at: \nhttps://ca.bbcollab.com/guest/dc5bfbd8ff0f46ae93a88054e3cb27ca \nDial in: 416-978-3435\, PIN: 838 072 6642
URL:https://slp.utoronto.ca/imp_date/anatomical-and-structural-properties-of-the-human-trapezius-muscle-preliminary-insights-into-myofascial-pain/
LOCATION:Online – Virtual
ATTACH;FMTTYPE=image/jpeg:https://slp.utoronto.ca/wp-content/uploads/Mikaela-Stiver-e1611169131167.jpg
END:VEVENT
BEGIN:VEVENT
DTSTART;TZID=America/Toronto:20210125T153000
DTEND;TZID=America/Toronto:20210125T180000
DTSTAMP:20260420T065815
CREATED:20201127T220935Z
LAST-MODIFIED:20201128T004428Z
UID:19566-1611588600-1611597600@slp.utoronto.ca
SUMMARY:Unit 1 - IPE
DESCRIPTION:INTERPROFESSIONAL EDUCATION (IPE) LEARNING ACTIVITIES:\nPrinciples of Clinical Practice – Understanding Patient/Client Partnerships in a Team Context
URL:https://slp.utoronto.ca/imp_date/unit-1-ipe-3/
END:VEVENT
BEGIN:VEVENT
DTSTART;TZID=America/Toronto:20210122T160000
DTEND;TZID=America/Toronto:20210122T170000
DTSTAMP:20260420T065815
CREATED:20210119T211439Z
LAST-MODIFIED:20210119T233419Z
UID:19762-1611331200-1611334800@slp.utoronto.ca
SUMMARY:Join us! Awards and Recognition Celebration 2020
DESCRIPTION:During the annual Awards and Recognition Celebration\, we honour all of our students\, particularly those who have received awards and bursaries. We also appreciate and thank the benefactors and friends of the department as well as our Alumni and Status-Only/ Adjunct Faculty. We are sincerely grateful for all of your support and your contributions to the successes of our students\, and we hope you will share in the celebration with us. \nHow to Join: \n CLICK HERE TO JOIN SESSION \nIf you are attending the event using a mobile phone or tablet you will need to download the MS Teams app which can be found through your app store prior to the event. \nFor those attending using a computer or laptop you can open the link directly in a web browser or using the MS Teams desktop application. \nLive captioning is available for this event and is only accessible when using a computer or laptop. If you have any questions or need additional support\, please contact slp.rsvp@utoronto.ca. \n On behalf of all of us in the Department of Speech-Language Pathology\, \nDr. Pascal van Lieshout \nProfessor and Chair \n  \nProfessor Lynn Ellwood \nAssociate Professor\, Teaching Stream \nAssociate Chair \n 
URL:https://slp.utoronto.ca/imp_date/jan22_2021/
LOCATION:Online – Virtual
ATTACH;FMTTYPE=image/jpeg:https://slp.utoronto.ca/wp-content/uploads/ballon-e1611096884270.jpg
END:VEVENT
END:VCALENDAR